BEGIN:VCALENDAR
VERSION:2.0
PRODID:-//North Rosedale Park Civic Association - ECPv6.15.11//NONSGML v1.0//EN
CALSCALE:GREGORIAN
METHOD:PUBLISH
X-ORIGINAL-URL:https://nrpca.org
X-WR-CALDESC:Events for North Rosedale Park Civic Association
REFRESH-INTERVAL;VALUE=DURATION:PT1H
X-Robots-Tag:noindex
X-PUBLISHED-TTL:PT1H
BEGIN:VTIMEZONE
TZID:UTC
BEGIN:STANDARD
TZOFFSETFROM:+0000
TZOFFSETTO:+0000
TZNAME:UTC
DTSTART:20250101T000000
END:STANDARD
END:VTIMEZONE
BEGIN:VEVENT
DTSTART;TZID=UTC:20260911T183000
DTEND;TZID=UTC:20260911T220000
DTSTAMP:20260420T065543
CREATED:20260112T135659Z
LAST-MODIFIED:20260112T135659Z
UID:10001983-1789151400-1789164000@nrpca.org
SUMMARY:Steak Roast
DESCRIPTION:
URL:https://nrpca.org/event/steak-roast/
LOCATION:Community House\, 18445 Scarsdale\, Detroit\, MI\, 48223\, United States
END:VEVENT
END:VCALENDAR