BEGIN:VCALENDAR
VERSION:2.0
PRODID:-//North Rosedale Park Civic Association - ECPv6.15.11//NONSGML v1.0//EN
CALSCALE:GREGORIAN
METHOD:PUBLISH
X-WR-CALNAME:North Rosedale Park Civic Association
X-ORIGINAL-URL:https://nrpca.org
X-WR-CALDESC:Events for North Rosedale Park Civic Association
REFRESH-INTERVAL;VALUE=DURATION:PT1H
X-Robots-Tag:noindex
X-PUBLISHED-TTL:PT1H
BEGIN:VTIMEZONE
TZID:UTC
BEGIN:STANDARD
TZOFFSETFROM:+0000
TZOFFSETTO:+0000
TZNAME:UTC
DTSTART:20250101T000000
END:STANDARD
END:VTIMEZONE
BEGIN:VEVENT
DTSTART;TZID=UTC:20260311T120000
DTEND;TZID=UTC:20260311T180000
DTSTAMP:20260419T124036
CREATED:20260129T175623Z
LAST-MODIFIED:20260129T175623Z
UID:10001986-1773230400-1773252000@nrpca.org
SUMMARY:American Red Cross Blood Drive
DESCRIPTION:
URL:https://nrpca.org/event/american-red-cross-blood-drive-6/
LOCATION:Community House\, 18445 Scarsdale\, Detroit\, MI\, 48223\, United States
END:VEVENT
BEGIN:VEVENT
DTSTART;TZID=UTC:20260311T173000
DTEND;TZID=UTC:20260311T183000
DTSTAMP:20260419T124036
CREATED:20240221T133118Z
LAST-MODIFIED:20251021T175406Z
UID:10000175-1773250200-1773253800@nrpca.org
SUMMARY:Walk Group
DESCRIPTION:Walk around the grounds and/or video class inside (free)
URL:https://nrpca.org/event/walk-group/2026-03-11/
LOCATION:Community House\, 18445 Scarsdale\, Detroit\, MI\, 48223\, United States
END:VEVENT
BEGIN:VEVENT
DTSTART;TZID=UTC:20260311T183000
DTEND;TZID=UTC:20260311T200000
DTSTAMP:20260419T124036
CREATED:20251021T174507Z
LAST-MODIFIED:20251021T174507Z
UID:10001247-1773253800-1773259200@nrpca.org
SUMMARY:Aikido Class
DESCRIPTION:
URL:https://nrpca.org/event/aikido-class/2026-03-11/
LOCATION:Community House\, 18445 Scarsdale\, Detroit\, MI\, 48223\, United States
END:VEVENT
END:VCALENDAR