BEGIN:VCALENDAR
VERSION:2.0
PRODID:-//North Rosedale Park Civic Association - ECPv6.15.11//NONSGML v1.0//EN
CALSCALE:GREGORIAN
METHOD:PUBLISH
X-WR-CALNAME:North Rosedale Park Civic Association
X-ORIGINAL-URL:https://nrpca.org
X-WR-CALDESC:Events for North Rosedale Park Civic Association
REFRESH-INTERVAL;VALUE=DURATION:PT1H
X-Robots-Tag:noindex
X-PUBLISHED-TTL:PT1H
BEGIN:VTIMEZONE
TZID:UTC
BEGIN:STANDARD
TZOFFSETFROM:+0000
TZOFFSETTO:+0000
TZNAME:UTC
DTSTART:20240101T000000
END:STANDARD
END:VTIMEZONE
BEGIN:VEVENT
DTSTART;TZID=UTC:20251211T123000
DTEND;TZID=UTC:20251211T143000
DTSTAMP:20260419T145131
CREATED:20251021T175023Z
LAST-MODIFIED:20251021T175023Z
UID:10001489-1765456200-1765463400@nrpca.org
SUMMARY:PBS Kids Visit with Elmo
DESCRIPTION:
URL:https://nrpca.org/event/pbs-kids-visit-with-elmo/
LOCATION:Community House\, 18445 Scarsdale\, Detroit\, MI\, 48223\, United States
END:VEVENT
BEGIN:VEVENT
DTSTART;TZID=UTC:20251211T183000
DTEND;TZID=UTC:20251211T203000
DTSTAMP:20260419T145131
CREATED:20251021T175122Z
LAST-MODIFIED:20251021T175122Z
UID:10001490-1765477800-1765485000@nrpca.org
SUMMARY:Final Family Movie Night
DESCRIPTION:Times subject to change
URL:https://nrpca.org/event/final-family-movie-night/
LOCATION:Community House\, 18445 Scarsdale\, Detroit\, MI\, 48223\, United States
END:VEVENT
END:VCALENDAR