BEGIN:VCALENDAR
VERSION:2.0
PRODID:-//North Rosedale Park Civic Association - ECPv6.15.11//NONSGML v1.0//EN
CALSCALE:GREGORIAN
METHOD:PUBLISH
X-WR-CALNAME:North Rosedale Park Civic Association
X-ORIGINAL-URL:https://nrpca.org
X-WR-CALDESC:Events for North Rosedale Park Civic Association
REFRESH-INTERVAL;VALUE=DURATION:PT1H
X-Robots-Tag:noindex
X-PUBLISHED-TTL:PT1H
BEGIN:VTIMEZONE
TZID:UTC
BEGIN:STANDARD
TZOFFSETFROM:+0000
TZOFFSETTO:+0000
TZNAME:UTC
DTSTART:20240101T000000
END:STANDARD
END:VTIMEZONE
BEGIN:VEVENT
DTSTART;TZID=UTC:20251210T173000
DTEND;TZID=UTC:20251210T183000
DTSTAMP:20260419T145111
CREATED:20240221T133118Z
LAST-MODIFIED:20251021T175406Z
UID:10000162-1765387800-1765391400@nrpca.org
SUMMARY:Walk Group
DESCRIPTION:Walk around the grounds and/or video class inside (free)
URL:https://nrpca.org/event/walk-group/2025-12-10/
LOCATION:Community House\, 18445 Scarsdale\, Detroit\, MI\, 48223\, United States
END:VEVENT
BEGIN:VEVENT
DTSTART;TZID=UTC:20251210T183000
DTEND;TZID=UTC:20251210T200000
DTSTAMP:20260419T145111
CREATED:20251021T174507Z
LAST-MODIFIED:20251021T174507Z
UID:10001234-1765391400-1765396800@nrpca.org
SUMMARY:Aikido Class
DESCRIPTION:
URL:https://nrpca.org/event/aikido-class/2025-12-10/
LOCATION:Community House\, 18445 Scarsdale\, Detroit\, MI\, 48223\, United States
END:VEVENT
END:VCALENDAR