BEGIN:VCALENDAR
VERSION:2.0
PRODID:-//North Rosedale Park Civic Association - ECPv6.15.11//NONSGML v1.0//EN
CALSCALE:GREGORIAN
METHOD:PUBLISH
X-ORIGINAL-URL:https://nrpca.org
X-WR-CALDESC:Events for North Rosedale Park Civic Association
REFRESH-INTERVAL;VALUE=DURATION:PT1H
X-Robots-Tag:noindex
X-PUBLISHED-TTL:PT1H
BEGIN:VTIMEZONE
TZID:UTC
BEGIN:STANDARD
TZOFFSETFROM:+0000
TZOFFSETTO:+0000
TZNAME:UTC
DTSTART:20240101T000000
END:STANDARD
END:VTIMEZONE
BEGIN:VEVENT
DTSTART;VALUE=DATE:20250614
DTEND;VALUE=DATE:20250615
DTSTAMP:20260420T072529
CREATED:20250220T144258Z
LAST-MODIFIED:20250220T144258Z
UID:10001149-1749859200-1749945599@nrpca.org
SUMMARY:June Day
DESCRIPTION:
URL:https://nrpca.org/event/june-day-2/
LOCATION:Community House\, 18445 Scarsdale\, Detroit\, MI\, 48223\, United States
END:VEVENT
BEGIN:VEVENT
DTSTART;VALUE=DATE:20250614
DTEND;VALUE=DATE:20250615
DTSTAMP:20260420T072529
CREATED:20250227T190340Z
LAST-MODIFIED:20250227T190340Z
UID:10001205-1749859200-1749945599@nrpca.org
SUMMARY:Community House Rental
DESCRIPTION:
URL:https://nrpca.org/event/community-house-rental-79/
LOCATION:Community House\, 18445 Scarsdale\, Detroit\, MI\, 48223\, United States
END:VEVENT
END:VCALENDAR