BEGIN:VCALENDAR
VERSION:2.0
PRODID:-//North Rosedale Park Civic Association - ECPv6.15.11//NONSGML v1.0//EN
CALSCALE:GREGORIAN
METHOD:PUBLISH
X-WR-CALNAME:North Rosedale Park Civic Association
X-ORIGINAL-URL:https://nrpca.org
X-WR-CALDESC:Events for North Rosedale Park Civic Association
REFRESH-INTERVAL;VALUE=DURATION:PT1H
X-Robots-Tag:noindex
X-PUBLISHED-TTL:PT1H
BEGIN:VTIMEZONE
TZID:UTC
BEGIN:STANDARD
TZOFFSETFROM:+0000
TZOFFSETTO:+0000
TZNAME:UTC
DTSTART:20230101T000000
END:STANDARD
END:VTIMEZONE
BEGIN:VEVENT
DTSTART;TZID=UTC:20240828T160000
DTEND;TZID=UTC:20240828T170000
DTSTAMP:20260421T011859
CREATED:20240625T155020Z
LAST-MODIFIED:20240625T155020Z
UID:10000873-1724860800-1724864400@nrpca.org
SUMMARY:Yoga
DESCRIPTION:
URL:https://nrpca.org/event/yoga/2024-08-28/
LOCATION:Community House\, 18445 Scarsdale\, Detroit\, MI\, 48223\, United States
END:VEVENT
BEGIN:VEVENT
DTSTART;TZID=UTC:20240828T160000
DTEND;TZID=UTC:20240828T170000
DTSTAMP:20260421T011859
CREATED:20240724T143812Z
LAST-MODIFIED:20240724T143812Z
UID:10000877-1724860800-1724864400@nrpca.org
SUMMARY:North Rosedale Yoga Series
DESCRIPTION:
URL:https://nrpca.org/event/north-rosedale-yoga-series-3/
LOCATION:Community House\, 18445 Scarsdale\, Detroit\, MI\, 48223\, United States
END:VEVENT
BEGIN:VEVENT
DTSTART;TZID=UTC:20240828T173000
DTEND;TZID=UTC:20240828T183000
DTSTAMP:20260421T011859
CREATED:20240221T133118Z
LAST-MODIFIED:20251021T175406Z
UID:10000095-1724866200-1724869800@nrpca.org
SUMMARY:Walk Group
DESCRIPTION:Walk around the grounds and/or video class inside (free)
URL:https://nrpca.org/event/walk-group/2024-08-28/
LOCATION:Community House\, 18445 Scarsdale\, Detroit\, MI\, 48223\, United States
END:VEVENT
END:VCALENDAR